BEGIN:VCALENDAR
VERSION:2.0
PRODID:-//Trimmelter Sportverein e.V. Trier - ECPv6.15.20//NONSGML v1.0//EN
CALSCALE:GREGORIAN
METHOD:PUBLISH
X-ORIGINAL-URL:https://www.trimmelter-sv.de
X-WR-CALDESC:Veranstaltungen für Trimmelter Sportverein e.V. Trier
REFRESH-INTERVAL;VALUE=DURATION:PT1H
X-Robots-Tag:noindex
X-PUBLISHED-TTL:PT1H
BEGIN:VTIMEZONE
TZID:Europe/Berlin
BEGIN:DAYLIGHT
TZOFFSETFROM:+0100
TZOFFSETTO:+0200
TZNAME:CEST
DTSTART:20240331T010000
END:DAYLIGHT
BEGIN:STANDARD
TZOFFSETFROM:+0200
TZOFFSETTO:+0100
TZNAME:CET
DTSTART:20241027T010000
END:STANDARD
BEGIN:DAYLIGHT
TZOFFSETFROM:+0100
TZOFFSETTO:+0200
TZNAME:CEST
DTSTART:20250330T010000
END:DAYLIGHT
BEGIN:STANDARD
TZOFFSETFROM:+0200
TZOFFSETTO:+0100
TZNAME:CET
DTSTART:20251026T010000
END:STANDARD
BEGIN:DAYLIGHT
TZOFFSETFROM:+0100
TZOFFSETTO:+0200
TZNAME:CEST
DTSTART:20260329T010000
END:DAYLIGHT
BEGIN:STANDARD
TZOFFSETFROM:+0200
TZOFFSETTO:+0100
TZNAME:CET
DTSTART:20261025T010000
END:STANDARD
END:VTIMEZONE
BEGIN:VEVENT
DTSTART;TZID=Europe/Berlin:20250811T100000
DTEND;TZID=Europe/Berlin:20250814T153000
DTSTAMP:20260425T123701
CREATED:20250715T072146Z
LAST-MODIFIED:20250715T072146Z
UID:5958-1754906400-1755185400@www.trimmelter-sv.de
SUMMARY:Tenniscamp für Kinder beim TSV
DESCRIPTION:Tenniscamps der Tennisschule Bernd Mager\nSommerferien 2025 auf der Tennisanlage des Trimmelter SV\nCamp 1: Montag\, 7.7. – Donnerstag\, 10.7.2025 (1. Ferienwoche)\nCamp 2: Montag\, 11.8. – Donnerstag\, 14.8.2025 (6. Ferienwoche)\nTeilnahme für alle Spielstärken und Altersgruppen bis 16 Jahre \nWir bieten: \n\ntägliches Tennistraining von 10:00 bis 12:30 Uhr und 13:15 bis 15:30 Uhr in Gruppen bis zu 8 Teilnehmenden\ngemeinsames Mittagessen von 12:30 Uhr bis 13:15 Uhr ist im Preis enthalten\nGetränkeverpflegung während der gesamten Woche\nTeilnahme auch für Nichtmitglieder des Trimmelter SV möglich\nTeilnahme auch an einzelnen Tagen möglich\n\nKosten: \n\nMitglieder 190\,00 € – Nichtmitglieder 200\,00 € (bei Teilnahme an beiden Camps 10 % Ermäßigung auf das 2. Camp)\neinzelne Tage: 50\,00 € für Mitglieder/55\,00 € für Nichtmitglieder\n\nWeitere Infos und Anmeldung: \n\nTennisschule Bernd Mager\nTel.: 0651 18816 oder 0175 4012298\nE-Mail: magerlis@aol.com
URL:https://www.trimmelter-sv.de/event/tenniscamp-fuer-kinder-beim-tsv/
LOCATION:Tennisplätze Vereinsgelände
CATEGORIES:Tennis
ATTACH;FMTTYPE=image/jpeg:https://www.trimmelter-sv.de/wp-content/uploads/2025/07/April-21-1.jpg
END:VEVENT
END:VCALENDAR