BEGIN:VCALENDAR
VERSION:2.0
PRODID:-//Trimmelter Sportverein e.V. Trier - ECPv6.15.20//NONSGML v1.0//EN
CALSCALE:GREGORIAN
METHOD:PUBLISH
X-WR-CALNAME:Trimmelter Sportverein e.V. Trier
X-ORIGINAL-URL:https://www.trimmelter-sv.de
X-WR-CALDESC:Veranstaltungen für Trimmelter Sportverein e.V. Trier
REFRESH-INTERVAL;VALUE=DURATION:PT1H
X-Robots-Tag:noindex
X-PUBLISHED-TTL:PT1H
BEGIN:VTIMEZONE
TZID:Europe/Berlin
BEGIN:DAYLIGHT
TZOFFSETFROM:+0100
TZOFFSETTO:+0200
TZNAME:CEST
DTSTART:20240331T010000
END:DAYLIGHT
BEGIN:STANDARD
TZOFFSETFROM:+0200
TZOFFSETTO:+0100
TZNAME:CET
DTSTART:20241027T010000
END:STANDARD
BEGIN:DAYLIGHT
TZOFFSETFROM:+0100
TZOFFSETTO:+0200
TZNAME:CEST
DTSTART:20250330T010000
END:DAYLIGHT
BEGIN:STANDARD
TZOFFSETFROM:+0200
TZOFFSETTO:+0100
TZNAME:CET
DTSTART:20251026T010000
END:STANDARD
BEGIN:DAYLIGHT
TZOFFSETFROM:+0100
TZOFFSETTO:+0200
TZNAME:CEST
DTSTART:20260329T010000
END:DAYLIGHT
BEGIN:STANDARD
TZOFFSETFROM:+0200
TZOFFSETTO:+0100
TZNAME:CET
DTSTART:20261025T010000
END:STANDARD
END:VTIMEZONE
BEGIN:VEVENT
DTSTART;TZID=Europe/Berlin:20251213T160000
DTEND;TZID=Europe/Berlin:20251213T220000
DTSTAMP:20260422T150552
CREATED:20251007T105159Z
LAST-MODIFIED:20251014T070805Z
UID:6051-1765641600-1765663200@www.trimmelter-sv.de
SUMMARY:2. Doppelkopf-Turnier 2025/26
DESCRIPTION:Anmeldung: doko@trimmelter-sv.de
URL:https://www.trimmelter-sv.de/event/2-doppelkopf-turnier-2025-26/
LOCATION:Vereinshaus des TSV\, Kohlenstraße 55\, Trier\, 54296
CATEGORIES:Doppelkopf
END:VEVENT
END:VCALENDAR